BEGIN:VCALENDAR
VERSION:2.0
PRODID:Imitheme.com 
BEGIN:VEVENT
UID:20260420T16413284491643
DTSTAMP;TZID=UTC:2026-04-20 16:41:32
DTSTART;TZID=America/Los_Angeles:20260420T164132
DTEND;TZID=America/Los_Angeles:20260420T164132
SUMMARY:La journée mondiale de la santé mentale
LOCATION:Institut Saint Dominique
DESCRIPTION:
URL:https://saint-dominique.ma/eventer/la-journee-mondiale-de-la-sante-mentale/
END:VEVENT
END:VCALENDAR
