BEGIN:VCALENDAR
VERSION:2.0
PRODID:Imitheme.com 
BEGIN:VEVENT
UID:20260420T1828061421583458
DTSTAMP;TZID=UTC:2026-04-20 18:28:06
DTSTART;TZID=America/Los_Angeles:20260420T182806
DTEND;TZID=America/Los_Angeles:20260420T182806
SUMMARY:La journée mondiale des enseignants
LOCATION:Institut Saint Dominique
DESCRIPTION:
URL:https://saint-dominique.ma/eventer/la-journee-mondiale-des-enseignants/
END:VEVENT
END:VCALENDAR
