BEGIN:VCALENDAR
VERSION:2.0
PRODID:Imitheme.com 
BEGIN:VEVENT
UID:20260423T1506551118310117
DTSTAMP;TZID=UTC:2026-04-23 15:06:55
DTSTART;TZID=America/Los_Angeles:20260423T150655
DTEND;TZID=America/Los_Angeles:20260423T150655
SUMMARY:planning de la rentrée scolaire 2023/2024
LOCATION:
DESCRIPTION:
URL:https://saint-dominique.ma/eventer/planning-de-la-rentree-scolaire-2023-2024-4/
END:VEVENT
END:VCALENDAR
