BEGIN:VCALENDAR
VERSION:2.0
PRODID:Imitheme.com 
BEGIN:VEVENT
UID:20260423T133620824631917
DTSTAMP;TZID=UTC:2026-04-23 13:36:20
DTSTART;TZID=America/Los_Angeles:20260423T133620
DTEND;TZID=America/Los_Angeles:20260423T133620
SUMMARY:Planning de la rentrée scolaire 2023 / 2024
LOCATION:Institut Saint Dominique
DESCRIPTION:
URL:https://saint-dominique.ma/eventer/planning-de-la-rentree-scolaire-2023-2024-5/
END:VEVENT
END:VCALENDAR
