BEGIN:VCALENDAR
VERSION:2.0
PRODID:Imitheme.com 
BEGIN:VEVENT
UID:20260423T175140172356262
DTSTAMP;TZID=UTC:2026-04-23 17:51:40
DTSTART;TZID=America/Los_Angeles:20260423T175140
DTEND;TZID=America/Los_Angeles:20260423T175140
SUMMARY:planning de la rentrée scolaire 2023/2024
LOCATION:Institut Saint Dominique
DESCRIPTION:
URL:https://saint-dominique.ma/eventer/planning-de-la-rentree-scolaire-2023-2024-2/
END:VEVENT
END:VCALENDAR
