BEGIN:VCALENDAR
VERSION:2.0
PRODID:Imitheme.com 
BEGIN:VEVENT
UID:20260423T1924291871791776
DTSTAMP;TZID=UTC:2026-04-23 19:24:29
DTSTART;TZID=America/Los_Angeles:20260423T192429
DTEND;TZID=America/Los_Angeles:20260423T192429
SUMMARY:planning de la rentrée scolaire 2023/2024
LOCATION:
DESCRIPTION:
URL:https://saint-dominique.ma/eventer/planning-de-la-rentree-scolaire-2023-2024/
END:VEVENT
END:VCALENDAR
