BEGIN:VCALENDAR
VERSION:2.0
PRODID:Imitheme.com 
BEGIN:VEVENT
UID:20260424T0040351808776465
DTSTAMP;TZID=UTC:2026-04-24 00:40:35
DTSTART;TZID=America/Los_Angeles:20260424T004035
DTEND;TZID=America/Los_Angeles:20260424T004035
SUMMARY:Kermesse du préscolaire
LOCATION:Institut Saint Dominique
DESCRIPTION:
URL:https://saint-dominique.ma/eventer/kermesse-du-prescolaire/
END:VEVENT
END:VCALENDAR
