BEGIN:VCALENDAR
VERSION:2.0
PRODID:Imitheme.com 
BEGIN:VEVENT
UID:20260424T02112350141082
DTSTAMP;TZID=UTC:2026-04-24 02:11:23
DTSTART;TZID=America/Los_Angeles:20260424T021123
DTEND;TZID=America/Los_Angeles:20260424T021123
SUMMARY:Fin des cours avec les élèves et remise des bulletins à partir de 14h30
LOCATION:
DESCRIPTION:
URL:https://saint-dominique.ma/eventer/fin-des-cours-avec-les-eleves-et-remise-des-bulletins-a-partir-de-14h30/
END:VEVENT
END:VCALENDAR
