BEGIN:VCALENDAR
VERSION:2.0
PRODID:Imitheme.com 
BEGIN:VEVENT
UID:20260423T211555551256451
DTSTAMP;TZID=UTC:2026-04-23 21:15:55
DTSTART;TZID=America/Los_Angeles:20260423T211555
DTEND;TZID=America/Los_Angeles:20260423T211555
SUMMARY:Eid Al Adha
LOCATION:Institut Saint Dominique
DESCRIPTION:
URL:https://saint-dominique.ma/eventer/eid-al-adha/
END:VEVENT
END:VCALENDAR
