BEGIN:VCALENDAR
VERSION:2.0
PRODID:Imitheme.com 
BEGIN:VEVENT
UID:20260424T0351431789201338
DTSTAMP;TZID=UTC:2026-04-24 03:51:43
DTSTART;TZID=America/Los_Angeles:20260424T035143
DTEND;TZID=America/Los_Angeles:20260424T035143
SUMMARY:saint Dominique du rire
LOCATION:
DESCRIPTION:
URL:https://saint-dominique.ma/eventer/saint-dominique-du-rire/
END:VEVENT
END:VCALENDAR
