BEGIN:VCALENDAR
VERSION:2.0
PRODID:Imitheme.com 
BEGIN:VEVENT
UID:20260424T085734705398875
DTSTAMP;TZID=UTC:2026-04-24 08:57:34
DTSTART;TZID=America/Los_Angeles:20260424T085734
DTEND;TZID=America/Los_Angeles:20260424T085734
SUMMARY:Spectacle : Saint Dominique du rire
LOCATION:Institut Saint Dominique
DESCRIPTION:les élèves du 3ème année primaire organisent un spectacle
URL:https://saint-dominique.ma/eventer/spectacle-saint-dominique-du-rire/
END:VEVENT
END:VCALENDAR
