BEGIN:VCALENDAR
VERSION:2.0
PRODID:Imitheme.com 
BEGIN:VEVENT
UID:20260424T101548182167908
DTSTAMP;TZID=UTC:2026-04-24 10:15:48
DTSTART;TZID=America/Los_Angeles:20260424T101548
DTEND;TZID=America/Los_Angeles:20260424T101548
SUMMARY:La fête des mères
LOCATION:
DESCRIPTION:En l\'honneur de la fête des mères, toutes les mamans méritent d\'être particulièrement célébrées. Elles sont certainement toutes douces, aimantes et méritent notre attention. Bonne fête à toutes les mamans❤️
URL:https://saint-dominique.ma/eventer/la-fete-des-meres/
END:VEVENT
END:VCALENDAR
