BEGIN:VCALENDAR
VERSION:2.0
PRODID:Imitheme.com 
BEGIN:VEVENT
UID:20260420T1106041942214529
DTSTAMP;TZID=UTC:2026-04-20 11:06:04
DTSTART;TZID=America/Los_Angeles:20260420T110604
DTEND;TZID=America/Los_Angeles:20260420T110604
SUMMARY:FÊTE DE L’INDÉPENDANCE
LOCATION:Institut Saint Dominique
DESCRIPTION:
URL:https://saint-dominique.ma/eventer/fete-de-lindependance-2/
END:VEVENT
END:VCALENDAR
