BEGIN:VCALENDAR
VERSION:2.0
PRODID:Imitheme.com 
BEGIN:VEVENT
UID:20260420T235202757602082
DTSTAMP;TZID=UTC:2026-04-20 23:52:02
DTSTART;TZID=America/Los_Angeles:20260420T235202
DTEND;TZID=America/Los_Angeles:20260420T235202
SUMMARY:Vacances intermédiaires 3
LOCATION:Institut Saint Dominique
DESCRIPTION:
URL:https://saint-dominique.ma/eventer/vacances-intermediaires-3/
END:VEVENT
END:VCALENDAR
