BEGIN:VCALENDAR
VERSION:2.0
PRODID:Imitheme.com 
BEGIN:VEVENT
UID:20260420T2013331344126634
DTSTAMP;TZID=UTC:2026-04-20 20:13:33
DTSTART;TZID=America/Los_Angeles:20260420T201333
DTEND;TZID=America/Los_Angeles:20260420T201333
SUMMARY:Vacances 1er semestre
LOCATION:Institut Saint Dominique
DESCRIPTION:
URL:https://saint-dominique.ma/eventer/vacances-1er-semestre/
END:VEVENT
END:VCALENDAR
