BEGIN:VCALENDAR
VERSION:2.0
PRODID:Imitheme.com
BEGIN:VEVENT
UID:20260424T231558-259561126
DTSTAMP;TZID=UTC:1777072558
DTSTART;TZID=America/Los_Angeles:20260424T231558
DTEND;TZID=America/Los_Angeles:20260424T231558
SUMMARY:Journée Internationale de l'Enseignant
LOCATION:
DESCRIPTION: https://saint-dominique.ma/eventer/journee-internationale-de-lenseignant/
URL:https://saint-dominique.ma/eventer/journee-internationale-de-lenseignant/
END:VEVENT
END:VCALENDAR
