BEGIN:VCALENDAR
VERSION:2.0
PRODID:Imitheme.com
BEGIN:VEVENT
UID:20260424T215030-1159430514
DTSTAMP;TZID=UTC:1777067430
DTSTART;TZID=America/Los_Angeles:20260424T215030
DTEND;TZID=America/Los_Angeles:20260424T215030
SUMMARY:Fête du trône
LOCATION:
DESCRIPTION: https://saint-dominique.ma/eventer/fete-du-trone/
URL:https://saint-dominique.ma/eventer/fete-du-trone/
END:VEVENT
END:VCALENDAR
