BEGIN:VCALENDAR
VERSION:2.0
PRODID:Imitheme.com
BEGIN:VEVENT
UID:20260424T131737-186022212
DTSTAMP;TZID=UTC:1777036657
DTSTART;TZID=America/Los_Angeles:20260424T131737
DTEND;TZID=America/Los_Angeles:20260424T131737
SUMMARY:Inauguration des locaux et du Parc à Saint Dominique
LOCATION:Institut Saint Dominique
DESCRIPTION: https://saint-dominique.ma/eventer/inauguration-des-locaux-et-du-parc-a-saint-dominique/
URL:https://saint-dominique.ma/eventer/inauguration-des-locaux-et-du-parc-a-saint-dominique/
END:VEVENT
END:VCALENDAR
