BEGIN:VCALENDAR
VERSION:2.0
PRODID:Imitheme.com
BEGIN:VEVENT
UID:20260424T144253-1789518535
DTSTAMP;TZID=UTC:1777041773
DTSTART;TZID=America/Los_Angeles:20260424T144253
DTEND;TZID=America/Los_Angeles:20260424T144253
SUMMARY:Semaine culturelle  : "La semaine des arts et de la culture... Explorez les traditions et les talents locaux"
LOCATION:
DESCRIPTION: Chers parents, Nous sommes ravis de vous informer que l\'institut Saint Dominique organisera une semaine culturelle passionnante pour nos élèves du collège du 08 au 13 mai. Cette semaine et après une première qui a été dédiée pour le primaire avant les vacances, sera l\'occasion pour nos élèves de découvrir de nouvelles cultures, de s\'ouvrir à de nouvelles expériences et d\'élargir leurs horizons. Au cours de la semaine, nous aurons une variété d\'activités et d\'événements pour nos élèves. Ils pourront participer à des ateliers de musique, de danse, de cuisine et d\'art. Nous aurons également des intervenants extérieurs qui viendront présenter des traditions culturelles différentes et des spectacles de musique et de danse pour divertir nos élèves. Nous croyons que cette semaine culturelle sera une expérience inoubliable pour nos élèves. Ils auront l\'occasion de s\'immerger dans de nouvelles cultures et de découvrir des traditions différentes de la leur. Nous espérons que cette expérience leur permettra de développer leur curiosité, leur ouverture d\'esprit et leur appréciation pour la diversité culturelle. Nous sommes impatients de partager cette semaine passionnante avec nos élèves et nous espérons que vous les encouragez à participer activement à toutes les activités proposées. Si vous avez des questions ou des préoccupations, n\'hésitez pas à nous contacter. Cordialement, L\'équipe enseignante du collège.https://saint-dominique.ma/eventer/notre-semaine-culturelle-est-la/
URL:https://saint-dominique.ma/eventer/notre-semaine-culturelle-est-la/
END:VEVENT
END:VCALENDAR
