BEGIN:VCALENDAR
VERSION:2.0
PRODID:Imitheme.com
BEGIN:VEVENT
UID:20260424T215520-1294525203
DTSTAMP;TZID=UTC:1777067720
DTSTART;TZID=America/Los_Angeles:20260424T215520
DTEND;TZID=America/Los_Angeles:20260424T215520
SUMMARY:Fête du travail
LOCATION:
DESCRIPTION: https://saint-dominique.ma/eventer/fete-du-travail/
URL:https://saint-dominique.ma/eventer/fete-du-travail/
END:VEVENT
END:VCALENDAR
