BEGIN:VCALENDAR
VERSION:2.0
PRODID:Imitheme.com
BEGIN:VEVENT
UID:20260424T184700-1386925473
DTSTAMP;TZID=UTC:1777056420
DTSTART;TZID=America/Los_Angeles:20260424T184700
DTEND;TZID=America/Los_Angeles:20260424T184700
SUMMARY:La Semaine Culturelle
LOCATION:Institut Saint Dominique
DESCRIPTION: https://saint-dominique.ma/eventer/la-semaine-culturelle/
URL:https://saint-dominique.ma/eventer/la-semaine-culturelle/
END:VEVENT
END:VCALENDAR
