BEGIN:VCALENDAR
VERSION:2.0
PRODID:Imitheme.com
BEGIN:VEVENT
UID:20260425T004836-1185416924
DTSTAMP;TZID=UTC:1777078116
DTSTART;TZID=America/Los_Angeles:20260425T004836
DTEND;TZID=America/Los_Angeles:20260425T004836
SUMMARY:Journée Mondiale de l'Eau
LOCATION:
DESCRIPTION: https://saint-dominique.ma/eventer/journee-mondiale-de-leau/
URL:https://saint-dominique.ma/eventer/journee-mondiale-de-leau/
END:VEVENT
END:VCALENDAR
