BEGIN:VCALENDAR
VERSION:2.0
PRODID:Imitheme.com
BEGIN:VEVENT
UID:20260424T185157-527607045
DTSTAMP;TZID=UTC:1777056717
DTSTART;TZID=America/Los_Angeles:20260424T185157
DTEND;TZID=America/Los_Angeles:20260424T185157
SUMMARY:La journée de francophonie
LOCATION:Institut Saint Dominique
DESCRIPTION: https://saint-dominique.ma/eventer/la-journee-de-francophonie/
URL:https://saint-dominique.ma/eventer/la-journee-de-francophonie/
END:VEVENT
END:VCALENDAR
