BEGIN:VCALENDAR
VERSION:2.0
PRODID:Imitheme.com
BEGIN:VEVENT
UID:20260424T172318-1967685065
DTSTAMP;TZID=UTC:1777051398
DTSTART;TZID=America/Los_Angeles:20260424T172318
DTEND;TZID=America/Los_Angeles:20260424T172318
SUMMARY:LA MATINÉE DÉGUISÉE
LOCATION:
DESCRIPTION: Organisation d\'une matinée déguisée par les classes du préscolaire, 1er et 2ème année primaire.https://saint-dominique.ma/eventer/la-matinee-deguisee/
URL:https://saint-dominique.ma/eventer/la-matinee-deguisee/
END:VEVENT
END:VCALENDAR
