BEGIN:VCALENDAR
VERSION:2.0
PRODID:Imitheme.com
BEGIN:VEVENT
UID:20260425T023747-1447662489
DTSTAMP;TZID=UTC:1777084667
DTSTART;TZID=America/Los_Angeles:20260425T023747
DTEND;TZID=America/Los_Angeles:20260425T023747
SUMMARY:Vacances Intermédiaires N°3
LOCATION:Institut Saint Dominique
DESCRIPTION: https://saint-dominique.ma/eventer/vacances-intermediaires-n3/
URL:https://saint-dominique.ma/eventer/vacances-intermediaires-n3/
END:VEVENT
END:VCALENDAR
