BEGIN:VCALENDAR
VERSION:2.0
PRODID:Imitheme.com
BEGIN:VEVENT
UID:20260425T041448-16030964
DTSTAMP;TZID=UTC:1777090488
DTSTART;TZID=America/Los_Angeles:20260425T041448
DTEND;TZID=America/Los_Angeles:20260425T041448
SUMMARY:Vacances Intermédiaires N°2
LOCATION:Institut Saint Dominique
DESCRIPTION: https://saint-dominique.ma/eventer/vacances-intermediaires-n2/
URL:https://saint-dominique.ma/eventer/vacances-intermediaires-n2/
END:VEVENT
END:VCALENDAR
